BEGIN:VCALENDAR
VERSION:2.0
PRODID:-//Noc Sów - ECPv6.15.20//NONSGML v1.0//EN
CALSCALE:GREGORIAN
METHOD:PUBLISH
X-ORIGINAL-URL:https://nocsow.pl
X-WR-CALDESC:Wydarzenia dla Noc Sów
REFRESH-INTERVAL;VALUE=DURATION:PT1H
X-Robots-Tag:noindex
X-PUBLISHED-TTL:PT1H
BEGIN:VTIMEZONE
TZID:Europe/Warsaw
BEGIN:DAYLIGHT
TZOFFSETFROM:+0100
TZOFFSETTO:+0200
TZNAME:CEST
DTSTART:20210328T010000
END:DAYLIGHT
BEGIN:STANDARD
TZOFFSETFROM:+0200
TZOFFSETTO:+0100
TZNAME:CET
DTSTART:20211031T010000
END:STANDARD
BEGIN:DAYLIGHT
TZOFFSETFROM:+0100
TZOFFSETTO:+0200
TZNAME:CEST
DTSTART:20220327T010000
END:DAYLIGHT
BEGIN:STANDARD
TZOFFSETFROM:+0200
TZOFFSETTO:+0100
TZNAME:CET
DTSTART:20221030T010000
END:STANDARD
BEGIN:DAYLIGHT
TZOFFSETFROM:+0100
TZOFFSETTO:+0200
TZNAME:CEST
DTSTART:20230326T010000
END:DAYLIGHT
BEGIN:STANDARD
TZOFFSETFROM:+0200
TZOFFSETTO:+0100
TZNAME:CET
DTSTART:20231029T010000
END:STANDARD
END:VTIMEZONE
BEGIN:VEVENT
DTSTART;TZID=Europe/Warsaw:20220318T200000
DTEND;TZID=Europe/Warsaw:20220318T233000
DTSTAMP:20260425T152051
CREATED:20220316T095524Z
LAST-MODIFIED:20220316T095527Z
UID:10000135-1647633600-1647646200@nocsow.pl
SUMMARY:Noc sów w Julianowie
DESCRIPTION:Noc sów w Julianowie \nO   godz.  18.00 warsztaty plastyczne\nOk godz. 20.00 prelekcja nt. rozpoznawania\,  i zachowania się w czasie poszukiwań sów\, prezentacja wideo.\nOk godz. 21.30 wymarsz na pobliskie tereny w poszukiwaniu sów\nOk godz. 23.00 powrót do Zagrody Dębowej\, podzielenie się wrażeniami i spostrzeżeniami z wyprawy\, ognisko i wspólny posiłek\nOk godz. 24.00 zakończenie
URL:https://nocsow.pl/wydarzenie/noc-sow-w-julianowie/
LOCATION:Noc sów w Julianowie\, Julianów 17\, Rawa Mazowiecka\, 96-200
ORGANIZER;CN="Zagroda D%C4%99bowa%2C Miros%C5%82aw Klimczak":MAILTO:aluco@o2.pl
GEO:51.8031439;20.299587
X-APPLE-STRUCTURED-LOCATION;VALUE=URI;X-ADDRESS=Noc sów w Julianowie Julianów 17 Rawa Mazowiecka 96-200;X-APPLE-RADIUS=500;X-TITLE=Julianów 17:geo:20.299587,51.8031439
END:VEVENT
END:VCALENDAR